BEGIN:VCALENDAR
VERSION:2.0
PRODID:-//Institution Mongazon - ECPv6.15.20//NONSGML v1.0//EN
CALSCALE:GREGORIAN
METHOD:PUBLISH
X-WR-CALNAME:Institution Mongazon
X-ORIGINAL-URL:https://mongazon.org
X-WR-CALDESC:Évènements pour Institution Mongazon
REFRESH-INTERVAL;VALUE=DURATION:PT1H
X-Robots-Tag:noindex
X-PUBLISHED-TTL:PT1H
BEGIN:VTIMEZONE
TZID:Europe/Paris
BEGIN:DAYLIGHT
TZOFFSETFROM:+0100
TZOFFSETTO:+0200
TZNAME:CEST
DTSTART:20250330T010000
END:DAYLIGHT
BEGIN:STANDARD
TZOFFSETFROM:+0200
TZOFFSETTO:+0100
TZNAME:CET
DTSTART:20251026T010000
END:STANDARD
BEGIN:DAYLIGHT
TZOFFSETFROM:+0100
TZOFFSETTO:+0200
TZNAME:CEST
DTSTART:20260329T010000
END:DAYLIGHT
BEGIN:STANDARD
TZOFFSETFROM:+0200
TZOFFSETTO:+0100
TZNAME:CET
DTSTART:20261025T010000
END:STANDARD
BEGIN:DAYLIGHT
TZOFFSETFROM:+0100
TZOFFSETTO:+0200
TZNAME:CEST
DTSTART:20270328T010000
END:DAYLIGHT
BEGIN:STANDARD
TZOFFSETFROM:+0200
TZOFFSETTO:+0100
TZNAME:CET
DTSTART:20271031T010000
END:STANDARD
END:VTIMEZONE
BEGIN:VEVENT
DTSTART;TZID=Europe/Paris:20260429T080000
DTEND;TZID=Europe/Paris:20260429T173000
DTSTAMP:20260421T141036
CREATED:20260316T150618Z
LAST-MODIFIED:20260316T150618Z
UID:2877-1777449600-1777483800@mongazon.org
SUMMARY:Formation DDEC - Process Com : "se décoder\, décoder la relation avec autrui"
DESCRIPTION:Salle 182
URL:https://mongazon.org/event/formation-ddec-process-com-se-decoder-decoder-la-relation-avec-autrui/
LOCATION:1 rue du colombier 49000 angers\, 1 rue du Colombier\, Angers\, 49000\, France
ATTACH;FMTTYPE=image/jpeg:https://mongazon.org/wp-content/uploads/2026/03/AdobeStock_434285166.jpg
END:VEVENT
BEGIN:VEVENT
DTSTART;TZID=Europe/Paris:20260521T200000
DTEND;TZID=Europe/Paris:20260521T223000
DTSTAMP:20260421T141036
CREATED:20260316T154621Z
LAST-MODIFIED:20260316T154621Z
UID:2880-1779393600-1779402600@mongazon.org
SUMMARY:Comédie Musicale Mongazon
DESCRIPTION:Les élèves du Collège MONGAZON vous attendent nombreux pour leurs soirées COMEDIE MUSICALE des 21 et 22 mai. Nous vous accueillerons avec plaisir au Théâtre Chanzy\, à 20h. Aux parents d’élèves de 5eme : les élèves de 5B\, 5C et 5F seront sur scène uniquement le jeudi 21 mai ; les élèves de 5A\, 5E et 5D danseront le vendredi 22 mai.
URL:https://mongazon.org/event/comedie-musicale-mongazon/
ATTACH;FMTTYPE=image/jpeg:https://mongazon.org/wp-content/uploads/2026/03/AdobeStock_748491250.jpg
END:VEVENT
BEGIN:VEVENT
DTSTART;TZID=Europe/Paris:20260522T200000
DTEND;TZID=Europe/Paris:20260522T223000
DTSTAMP:20260421T141036
CREATED:20260316T154815Z
LAST-MODIFIED:20260316T155631Z
UID:2883-1779480000-1779489000@mongazon.org
SUMMARY:Comédie Musicale Mongazon
DESCRIPTION:Les élèves du Collège MONGAZON vous attendent nombreux pour leurs soirées COMEDIE MUSICALE des 21 et 22 mai. Nous vous accueillerons avec plaisir au Théâtre Chanzy\, à 20h. Aux parents d’élèves de 5eme : les élèves de 5B\, 5C et 5F seront sur scène uniquement le jeudi 21 mai ; les élèves de 5A\, 5E et 5D danseront le vendredi 22 mai.
URL:https://mongazon.org/event/comedie-musicale-mongazon-2/
ATTACH;FMTTYPE=image/jpeg:https://mongazon.org/wp-content/uploads/2026/03/AdobeStock_748491250.jpg
END:VEVENT
END:VCALENDAR